BEGIN:VCALENDAR
VERSION:2.0
PRODID:-//HobbyHandig - ECPv6.15.18//NONSGML v1.0//EN
CALSCALE:GREGORIAN
METHOD:PUBLISH
X-WR-CALNAME:HobbyHandig
X-ORIGINAL-URL:https://www.hobbyhandig.nl
X-WR-CALDESC:Evenementen voor HobbyHandig
REFRESH-INTERVAL;VALUE=DURATION:PT1H
X-Robots-Tag:noindex
X-PUBLISHED-TTL:PT1H
BEGIN:VTIMEZONE
TZID:Europe/Amsterdam
BEGIN:DAYLIGHT
TZOFFSETFROM:+0100
TZOFFSETTO:+0200
TZNAME:CEST
DTSTART:20150329T010000
END:DAYLIGHT
BEGIN:STANDARD
TZOFFSETFROM:+0200
TZOFFSETTO:+0100
TZNAME:CET
DTSTART:20151025T010000
END:STANDARD
BEGIN:DAYLIGHT
TZOFFSETFROM:+0100
TZOFFSETTO:+0200
TZNAME:CEST
DTSTART:20160327T010000
END:DAYLIGHT
BEGIN:STANDARD
TZOFFSETFROM:+0200
TZOFFSETTO:+0100
TZNAME:CET
DTSTART:20161030T010000
END:STANDARD
BEGIN:DAYLIGHT
TZOFFSETFROM:+0100
TZOFFSETTO:+0200
TZNAME:CEST
DTSTART:20170326T010000
END:DAYLIGHT
BEGIN:STANDARD
TZOFFSETFROM:+0200
TZOFFSETTO:+0100
TZNAME:CET
DTSTART:20171029T010000
END:STANDARD
BEGIN:DAYLIGHT
TZOFFSETFROM:+0100
TZOFFSETTO:+0200
TZNAME:CEST
DTSTART:20180325T010000
END:DAYLIGHT
BEGIN:STANDARD
TZOFFSETFROM:+0200
TZOFFSETTO:+0100
TZNAME:CET
DTSTART:20181028T010000
END:STANDARD
BEGIN:DAYLIGHT
TZOFFSETFROM:+0100
TZOFFSETTO:+0200
TZNAME:CEST
DTSTART:20190331T010000
END:DAYLIGHT
BEGIN:STANDARD
TZOFFSETFROM:+0200
TZOFFSETTO:+0100
TZNAME:CET
DTSTART:20191027T010000
END:STANDARD
END:VTIMEZONE
BEGIN:VEVENT
DTSTART;TZID=Europe/Amsterdam:20181117T110000
DTEND;TZID=Europe/Amsterdam:20181125T190000
DTSTAMP:20260420T232455
CREATED:20181023T140924Z
LAST-MODIFIED:20181023T142140Z
UID:9456-1542452400-1543172400@www.hobbyhandig.nl
SUMMARY:Cocoon 2018
DESCRIPTION:Ieder jaar brengt COCOON\, de grootste woon- en interieurbeurs van België\, klinkende namen uit de wereld van design\, meubels\, textiel\, (tafel)decoratie en tuin samen. \nVan zaterdag 17 tot zondag 25 november 2018\nMaandag\, dinsdag en woensdag van 11:00 tot 17:00\nDonderdag\, zaterdag en zondag van 11:00 tot 19:00 \nAvant-Première\nVrijdag 16 november van 17.00 tot 23.00 (alleen op uitnodiging) \nCOCOON Night\nVrijdag 23 november\, COCOON is open van 11:00 tot 23.00
URL:https://www.hobbyhandig.nl/evenement/cocoon-2018/
LOCATION:brussels expo\, Belgiëplein 1\, Brussel\, 1020\, België
CATEGORIES:Beurs,Evenement
END:VEVENT
BEGIN:VEVENT
DTSTART;TZID=Europe/Amsterdam:20181005T100000
DTEND;TZID=Europe/Amsterdam:20181007T170000
DTSTAMP:20260420T232455
CREATED:20180913T084352Z
LAST-MODIFIED:20180913T092430Z
UID:9027-1538733600-1538931600@www.hobbyhandig.nl
SUMMARY:Crea Weekend Gorinchem
DESCRIPTION:Crea Weekend is een event voor iedereen die van creativiteit en DIY houdt.\nOf je nu ervaren bent\, beginner of opzoek naar een nieuwe hobby; voor iedere creatieveling is er iets te doen! \nDrie dagen lang doe je creatieve inspiratie op tijdens Crea Weekend. Snuffel rond in een ruim aanbod aan toffe shops vol met creatieve materialen en raak geïnspireerd door de nieuwste trends en technieken tijdens dit weekend. Van handwerken\, scrapbooking\, handlettering en bakken tot woondecoratie\, sieraden\, haakwerken\, schilderen en nog veel meer… Volg de miniworkshops\, raak helemaal up-to-date en breid je creatieve vaardigheden verder uit. \nCrea Weekend in a nut shell: \n– Krijg inspiratie\n– Volg een mini-workshop\n– Vraag advies\n– Shop de nieuwste materialen \nCrea Weekend: het event voor iedereen met een creatieve hobby!
URL:https://www.hobbyhandig.nl/evenement/crea-weekend-gorinchem-3/
LOCATION:Evenementenhal Gorichem\, Franklinweg 2  \, Gorinchem\, 4207 HZ\, Nederland
CATEGORIES:Beurs,Evenement
END:VEVENT
BEGIN:VEVENT
DTSTART;VALUE=DATE:20170317
DTEND;VALUE=DATE:20170320
DTSTAMP:20260420T232455
CREATED:20170228T144927Z
LAST-MODIFIED:20170302T091654Z
UID:4881-1489708800-1489967999@www.hobbyhandig.nl
SUMMARY:Knit & Knot
DESCRIPTION:De Brabantse brei- en haakdagen komen er weer aan! Haak aan bij het leukste brei- en haakevent Knit & Knot op 17\, 18 en 19 maart in de Koepelhal in Tilburg. Je leert hier nieuwe technieken\, raakt geïnspireerd door bloggers en vloggers en kunt hier terecht voor een gezellig dagje haken of shoppen.
URL:https://www.hobbyhandig.nl/evenement/knit-knot-2/
LOCATION:Koepelhal Tilburg\, NS-Plein\,  Tilburg\, 5014 DA
CATEGORIES:Beurs,Evenement
ATTACH;FMTTYPE=image/jpeg:https://www.hobbyhandig.nl/wp-content/uploads/2017/02/Save-the-Date.jpg
END:VEVENT
BEGIN:VEVENT
DTSTART;VALUE=DATE:20161028
DTEND;VALUE=DATE:20161030
DTSTAMP:20260420T232455
CREATED:20160914T075401Z
LAST-MODIFIED:20160915T141811Z
UID:2649-1477612800-1477785599@www.hobbyhandig.nl
SUMMARY:Hobby- en Creabeurs
DESCRIPTION:In het winkelcentrum Makado vindt een uitgebreide Hobby- en Creabeurs plaats. Er zijn weer stands met allerlei leuke\, mooie en praktische spullen om de meest prachtige dingen mee te maken: 3D-kaarten\, figuurzeepjes\, hobby dots\, tiffany glas\, kralen\, sieraden\, maar ook stofjes\, wol en borduurpakketten.
URL:https://www.hobbyhandig.nl/evenement/hobby-crea-beurs/
LOCATION:Winkelcentrum Makado\, Kennedyplein 11-13\, Purmerend\, 1443 EA\, Nederland
CATEGORIES:Beurs
END:VEVENT
BEGIN:VEVENT
DTSTART;TZID=Europe/Amsterdam:20160901T100000
DTEND;TZID=Europe/Amsterdam:20160903T170000
DTSTAMP:20260420T232455
CREATED:20160627T112550Z
LAST-MODIFIED:20160627T112550Z
UID:1723-1472724000-1472922000@www.hobbyhandig.nl
SUMMARY:Knotsgekke Kaarten- en Scrapdagen
DESCRIPTION:Begin september is het weer zo ver\, alle creatievelingen trekken er dan op uit! Waar naar toe? De grootste creatieve beurs voor kaartenmakers en scrappers! \nCreatief\nDe Knotsgekke Kaarten- en Scrapdagen is met ruim 100 stands en 35 workshops de grootste creatieve kaarten- en scrapbeurs van Nederland. Alles op het gebied van kaartenmaken en scrappen is hier te vinden. \nInspirerend\nNatuurlijk presenteren we op de beurs de laatste trends en vind je volop inspiratie. Zo kun je dit jaar op de beurs met al je hobbyvragen terecht bij onze knotsgekke bloggers! \nOok de vele creatieve workshops die de beurs telt staan binnenkort online. \nGezellig\nSamen met je vrienden\, familie\, kinderen of kleinkinderen beleef je de leukste dag uit in het teken van jouw hobby. \nBestel hier je tickets
URL:https://www.hobbyhandig.nl/evenement/knotsgekke-kaarten-en-scrapdagen/
LOCATION:Brabanthallen Den Bosch\, Diezekade 2\,  's-Hertogenbosch\, Brabant\, 5222 AK \, Nederland
CATEGORIES:Beurs
ATTACH;FMTTYPE=image/jpeg:https://www.hobbyhandig.nl/wp-content/uploads/2016/06/campagnebeeld.jpg
END:VEVENT
END:VCALENDAR