BEGIN:VCALENDAR
VERSION:2.0
PRODID:-//HobbyHandig - ECPv6.15.18//NONSGML v1.0//EN
CALSCALE:GREGORIAN
METHOD:PUBLISH
X-WR-CALNAME:HobbyHandig
X-ORIGINAL-URL:https://www.hobbyhandig.nl
X-WR-CALDESC:Evenementen voor HobbyHandig
REFRESH-INTERVAL;VALUE=DURATION:PT1H
X-Robots-Tag:noindex
X-PUBLISHED-TTL:PT1H
BEGIN:VTIMEZONE
TZID:Europe/Amsterdam
BEGIN:DAYLIGHT
TZOFFSETFROM:+0100
TZOFFSETTO:+0200
TZNAME:CEST
DTSTART:20170326T010000
END:DAYLIGHT
BEGIN:STANDARD
TZOFFSETFROM:+0200
TZOFFSETTO:+0100
TZNAME:CET
DTSTART:20171029T010000
END:STANDARD
BEGIN:DAYLIGHT
TZOFFSETFROM:+0100
TZOFFSETTO:+0200
TZNAME:CEST
DTSTART:20180325T010000
END:DAYLIGHT
BEGIN:STANDARD
TZOFFSETFROM:+0200
TZOFFSETTO:+0100
TZNAME:CET
DTSTART:20181028T010000
END:STANDARD
BEGIN:DAYLIGHT
TZOFFSETFROM:+0100
TZOFFSETTO:+0200
TZNAME:CEST
DTSTART:20190331T010000
END:DAYLIGHT
BEGIN:STANDARD
TZOFFSETFROM:+0200
TZOFFSETTO:+0100
TZNAME:CET
DTSTART:20191027T010000
END:STANDARD
END:VTIMEZONE
BEGIN:VEVENT
DTSTART;TZID=Europe/Amsterdam:20181005T100000
DTEND;TZID=Europe/Amsterdam:20181007T170000
DTSTAMP:20260420T201703
CREATED:20180807T122115Z
LAST-MODIFIED:20180807T122207Z
UID:8720-1538733600-1538931600@www.hobbyhandig.nl
SUMMARY:Crea College
DESCRIPTION:Crea College staat volop in het teken van creativiteit en inspiratie. Volg een van de vele workshops\, ontdek hier de nieuwste trends en shop de mooiste materialen voor jouw creatieve hobby. Crea College is gericht op alle branches: scrapbooking\, handwerken\, handlettering\, bullet journaling\, bloemschikken\, schilderen\, bakken\, mixed media\, alles is mogelijk op Crea College! \nOp Crea College zijn er 5 speciaal ingerichte klaslokalen waarin je interactieve workshops kunt volgen over één van de hierboven genoemde creatieve hobby’s. Je krijgt in groepen van ongeveer 15 personen ruim een uur les over een nieuw creatief project. Eenmaal klaar loop je zo tegen de shops aan waar je de materialen kunnen kopen om je nieuwe skills verder uitoefenen. \nOok staan er designers voor je klaar om je de nieuwste technieken te leren en de laatste trends te laten zien in het theater. Hier geven ze interactieve live demonstraties over bepaalde creatieve technieken. Is dit te snel gegaan? Schuif dan aan tijdens een Q&A in de cozy corner en stel hier al je brandende creatieve vragen. Ga ook gelijk met ze op de foto om dit unieke moment vast te leggen. Wat een dag! \nCrea College in a nut shell:\n– Interactieve workshops van bekende designers\n– 5 speciaal ontworpen klaslokalen\n– Gratis make & takes\n– Meet & Greet met je favoriete designers\n– Shop till you drop \nCrea College: interactieve workshops om jouw creatieve skills naar een hoger level te tillen!
URL:https://www.hobbyhandig.nl/evenement/crea-college/
LOCATION:Evenementenhal Gorichem\, Franklinweg 2  \, Gorinchem\, 4207 HZ\, Nederland
END:VEVENT
END:VCALENDAR