BEGIN:VCALENDAR
VERSION:2.0
PRODID:-//HobbyHandig - ECPv6.15.18//NONSGML v1.0//EN
CALSCALE:GREGORIAN
METHOD:PUBLISH
X-ORIGINAL-URL:https://www.hobbyhandig.nl
X-WR-CALDESC:Evenementen voor HobbyHandig
REFRESH-INTERVAL;VALUE=DURATION:PT1H
X-Robots-Tag:noindex
X-PUBLISHED-TTL:PT1H
BEGIN:VTIMEZONE
TZID:Europe/Amsterdam
BEGIN:DAYLIGHT
TZOFFSETFROM:+0100
TZOFFSETTO:+0200
TZNAME:CEST
DTSTART:20150329T010000
END:DAYLIGHT
BEGIN:STANDARD
TZOFFSETFROM:+0200
TZOFFSETTO:+0100
TZNAME:CET
DTSTART:20151025T010000
END:STANDARD
BEGIN:DAYLIGHT
TZOFFSETFROM:+0100
TZOFFSETTO:+0200
TZNAME:CEST
DTSTART:20160327T010000
END:DAYLIGHT
BEGIN:STANDARD
TZOFFSETFROM:+0200
TZOFFSETTO:+0100
TZNAME:CET
DTSTART:20161030T010000
END:STANDARD
BEGIN:DAYLIGHT
TZOFFSETFROM:+0100
TZOFFSETTO:+0200
TZNAME:CEST
DTSTART:20170326T010000
END:DAYLIGHT
BEGIN:STANDARD
TZOFFSETFROM:+0200
TZOFFSETTO:+0100
TZNAME:CET
DTSTART:20171029T010000
END:STANDARD
BEGIN:DAYLIGHT
TZOFFSETFROM:+0100
TZOFFSETTO:+0200
TZNAME:CEST
DTSTART:20180325T010000
END:DAYLIGHT
BEGIN:STANDARD
TZOFFSETFROM:+0200
TZOFFSETTO:+0100
TZNAME:CET
DTSTART:20181028T010000
END:STANDARD
BEGIN:DAYLIGHT
TZOFFSETFROM:+0100
TZOFFSETTO:+0200
TZNAME:CEST
DTSTART:20190331T010000
END:DAYLIGHT
BEGIN:STANDARD
TZOFFSETFROM:+0200
TZOFFSETTO:+0100
TZNAME:CET
DTSTART:20191027T010000
END:STANDARD
END:VTIMEZONE
BEGIN:VEVENT
DTSTART;TZID=Europe/Amsterdam:20180424T100000
DTEND;TZID=Europe/Amsterdam:20180424T203000
DTSTAMP:20260420T201706
CREATED:20180424T121744Z
LAST-MODIFIED:20180424T121744Z
UID:7990-1524564000-1524601800@www.hobbyhandig.nl
SUMMARY:Crea -en hobbymarkt
DESCRIPTION:
URL:https://www.hobbyhandig.nl/evenement/crea-en-hobbymarkt-5/
LOCATION:Winkelcentrum Makado\, Purmerend\, J.F. Kennedyplein\, Purmerend\, Nederland
CATEGORIES:Markt
ATTACH;FMTTYPE=image/jpeg:https://www.hobbyhandig.nl/wp-content/uploads/2018/04/tnGR23.jpg
END:VEVENT
BEGIN:VEVENT
DTSTART;TZID=Europe/Amsterdam:20180209T100000
DTEND;TZID=Europe/Amsterdam:20180210T163000
DTSTAMP:20260420T201706
CREATED:20180111T134618Z
LAST-MODIFIED:20180112T100013Z
UID:7205-1518170400-1518280200@www.hobbyhandig.nl
SUMMARY:Crea- en Hobbymarkt
DESCRIPTION:Op vrijdag 9 en zaterdag 10 februari is er in het Makado Winkelcentrum een crea- en hobbymarkt. Hier vind je werkelijk alles voor uw creatieve hobby’s! Van 3D-kaarten tot hobbydots\, scrapbook\, ponsen en mallen. Van stansjes tot printstofjes\, kralen\, sieraden\, knutselpennen en stempels. Maar ook wol\, borduurpakketten\, haakkatoen\, gereedschap\, mooie decoraties om je huis extra gezellig te maken en cadeau-artikelen. De moeite van een bezoek dus meer dan waard!
URL:https://www.hobbyhandig.nl/evenement/crea-en-hobbymarkt-4/
LOCATION:Winkelcentrum Makado\, Purmerend\, J.F. Kennedyplein\, Purmerend\, Nederland
END:VEVENT
BEGIN:VEVENT
DTSTART;VALUE=DATE:20161028
DTEND;VALUE=DATE:20161030
DTSTAMP:20260420T201706
CREATED:20160914T075401Z
LAST-MODIFIED:20160915T141811Z
UID:2649-1477612800-1477785599@www.hobbyhandig.nl
SUMMARY:Hobby- en Creabeurs
DESCRIPTION:In het winkelcentrum Makado vindt een uitgebreide Hobby- en Creabeurs plaats. Er zijn weer stands met allerlei leuke\, mooie en praktische spullen om de meest prachtige dingen mee te maken: 3D-kaarten\, figuurzeepjes\, hobby dots\, tiffany glas\, kralen\, sieraden\, maar ook stofjes\, wol en borduurpakketten.
URL:https://www.hobbyhandig.nl/evenement/hobby-crea-beurs/
LOCATION:Winkelcentrum Makado\, Kennedyplein 11-13\, Purmerend\, 1443 EA\, Nederland
CATEGORIES:Beurs
END:VEVENT
END:VCALENDAR