BEGIN:VCALENDAR
VERSION:2.0
PRODID:-//HobbyHandig - ECPv6.15.18//NONSGML v1.0//EN
CALSCALE:GREGORIAN
METHOD:PUBLISH
X-ORIGINAL-URL:https://www.hobbyhandig.nl
X-WR-CALDESC:Evenementen voor HobbyHandig
REFRESH-INTERVAL;VALUE=DURATION:PT1H
X-Robots-Tag:noindex
X-PUBLISHED-TTL:PT1H
BEGIN:VTIMEZONE
TZID:Europe/Amsterdam
BEGIN:DAYLIGHT
TZOFFSETFROM:+0100
TZOFFSETTO:+0200
TZNAME:CEST
DTSTART:20160327T010000
END:DAYLIGHT
BEGIN:STANDARD
TZOFFSETFROM:+0200
TZOFFSETTO:+0100
TZNAME:CET
DTSTART:20161030T010000
END:STANDARD
BEGIN:DAYLIGHT
TZOFFSETFROM:+0100
TZOFFSETTO:+0200
TZNAME:CEST
DTSTART:20170326T010000
END:DAYLIGHT
BEGIN:STANDARD
TZOFFSETFROM:+0200
TZOFFSETTO:+0100
TZNAME:CET
DTSTART:20171029T010000
END:STANDARD
BEGIN:DAYLIGHT
TZOFFSETFROM:+0100
TZOFFSETTO:+0200
TZNAME:CEST
DTSTART:20180325T010000
END:DAYLIGHT
BEGIN:STANDARD
TZOFFSETFROM:+0200
TZOFFSETTO:+0100
TZNAME:CET
DTSTART:20181028T010000
END:STANDARD
END:VTIMEZONE
BEGIN:VEVENT
DTSTART;VALUE=DATE:20170408
DTEND;VALUE=DATE:20170410
DTSTAMP:20260421T061116
CREATED:20170228T152200Z
LAST-MODIFIED:20170307T142421Z
UID:4894-1491609600-1491782399@www.hobbyhandig.nl
SUMMARY:Randstad Eierbeurs Bemmel
DESCRIPTION:www.randstadeierbeurs. nl
URL:https://www.hobbyhandig.nl/evenement/randstad-eierbeurs/
LOCATION:Cultureel Centrum “De Kinkel”\, Bemmel
CATEGORIES:Beurs
ATTACH;FMTTYPE=image/jpeg:https://www.hobbyhandig.nl/wp-content/uploads/2017/02/Randstad-Eierbeurs-Advertentie-3.jpg
END:VEVENT
BEGIN:VEVENT
DTSTART;TZID=Europe/Amsterdam:20170325T080000
DTEND;TZID=Europe/Amsterdam:20170326T170000
DTSTAMP:20260421T061116
CREATED:20170306T151338Z
LAST-MODIFIED:20170307T143032Z
UID:4888-1490428800-1490547600@www.hobbyhandig.nl
SUMMARY:Internationale Randstad Eierbeurs Wassenaar
DESCRIPTION:www.randstadeierbeurs.nl
URL:https://www.hobbyhandig.nl/evenement/internationale-randstad-eierbeurs/
CATEGORIES:Beurs
ATTACH;FMTTYPE=image/jpeg:https://www.hobbyhandig.nl/wp-content/uploads/2017/02/Randstad-Eierbeurs-Advertentie-3.jpg
END:VEVENT
END:VCALENDAR