BEGIN:VCALENDAR
VERSION:2.0
PRODID:-//HobbyHandig - ECPv6.15.18//NONSGML v1.0//EN
CALSCALE:GREGORIAN
METHOD:PUBLISH
X-WR-CALNAME:HobbyHandig
X-ORIGINAL-URL:https://www.hobbyhandig.nl
X-WR-CALDESC:Evenementen voor HobbyHandig
REFRESH-INTERVAL;VALUE=DURATION:PT1H
X-Robots-Tag:noindex
X-PUBLISHED-TTL:PT1H
BEGIN:VTIMEZONE
TZID:Europe/Amsterdam
BEGIN:DAYLIGHT
TZOFFSETFROM:+0100
TZOFFSETTO:+0200
TZNAME:CEST
DTSTART:20150329T010000
END:DAYLIGHT
BEGIN:STANDARD
TZOFFSETFROM:+0200
TZOFFSETTO:+0100
TZNAME:CET
DTSTART:20151025T010000
END:STANDARD
BEGIN:DAYLIGHT
TZOFFSETFROM:+0100
TZOFFSETTO:+0200
TZNAME:CEST
DTSTART:20160327T010000
END:DAYLIGHT
BEGIN:STANDARD
TZOFFSETFROM:+0200
TZOFFSETTO:+0100
TZNAME:CET
DTSTART:20161030T010000
END:STANDARD
BEGIN:DAYLIGHT
TZOFFSETFROM:+0100
TZOFFSETTO:+0200
TZNAME:CEST
DTSTART:20170326T010000
END:DAYLIGHT
BEGIN:STANDARD
TZOFFSETFROM:+0200
TZOFFSETTO:+0100
TZNAME:CET
DTSTART:20171029T010000
END:STANDARD
END:VTIMEZONE
BEGIN:VEVENT
DTSTART;TZID=Europe/Amsterdam:20160830T090000
DTEND;TZID=Europe/Amsterdam:20160903T170000
DTSTAMP:20260421T081532
CREATED:20160627T100916Z
LAST-MODIFIED:20160627T100944Z
UID:1716-1472547600-1472922000@www.hobbyhandig.nl
SUMMARY:Feestweek: 5 jaar Stitchee
DESCRIPTION:Stitchee bestaat in september 5 jaar en organiseert daarom een feestweek! Kijk voor meer informatie op de website.
URL:https://www.hobbyhandig.nl/evenement/feestweek-5-jaar-stitchee/
LOCATION:Stichee\, Molendijk 47\, Oud-Beijerland\, 3262 AH
CATEGORIES:Evenement
END:VEVENT
END:VCALENDAR