BEGIN:VCALENDAR
VERSION:2.0
PRODID:-//HobbyHandig - ECPv6.15.18//NONSGML v1.0//EN
CALSCALE:GREGORIAN
METHOD:PUBLISH
X-WR-CALNAME:HobbyHandig
X-ORIGINAL-URL:https://www.hobbyhandig.nl
X-WR-CALDESC:Evenementen voor HobbyHandig
REFRESH-INTERVAL;VALUE=DURATION:PT1H
X-Robots-Tag:noindex
X-PUBLISHED-TTL:PT1H
BEGIN:VTIMEZONE
TZID:Europe/Amsterdam
BEGIN:DAYLIGHT
TZOFFSETFROM:+0100
TZOFFSETTO:+0200
TZNAME:CEST
DTSTART:20150329T010000
END:DAYLIGHT
BEGIN:STANDARD
TZOFFSETFROM:+0200
TZOFFSETTO:+0100
TZNAME:CET
DTSTART:20151025T010000
END:STANDARD
BEGIN:DAYLIGHT
TZOFFSETFROM:+0100
TZOFFSETTO:+0200
TZNAME:CEST
DTSTART:20160327T010000
END:DAYLIGHT
BEGIN:STANDARD
TZOFFSETFROM:+0200
TZOFFSETTO:+0100
TZNAME:CET
DTSTART:20161030T010000
END:STANDARD
BEGIN:DAYLIGHT
TZOFFSETFROM:+0100
TZOFFSETTO:+0200
TZNAME:CEST
DTSTART:20170326T010000
END:DAYLIGHT
BEGIN:STANDARD
TZOFFSETFROM:+0200
TZOFFSETTO:+0100
TZNAME:CET
DTSTART:20171029T010000
END:STANDARD
BEGIN:DAYLIGHT
TZOFFSETFROM:+0100
TZOFFSETTO:+0200
TZNAME:CEST
DTSTART:20180325T010000
END:DAYLIGHT
BEGIN:STANDARD
TZOFFSETFROM:+0200
TZOFFSETTO:+0100
TZNAME:CET
DTSTART:20181028T010000
END:STANDARD
BEGIN:DAYLIGHT
TZOFFSETFROM:+0100
TZOFFSETTO:+0200
TZNAME:CEST
DTSTART:20190331T010000
END:DAYLIGHT
BEGIN:STANDARD
TZOFFSETFROM:+0200
TZOFFSETTO:+0100
TZNAME:CET
DTSTART:20191027T010000
END:STANDARD
END:VTIMEZONE
BEGIN:VEVENT
DTSTART;TZID=Europe/Amsterdam:20181109T080000
DTEND;TZID=Europe/Amsterdam:20181111T170000
DTSTAMP:20260421T110852
CREATED:20180913T095026Z
LAST-MODIFIED:20180913T095026Z
UID:9078-1541750400-1541955600@www.hobbyhandig.nl
SUMMARY:Handwerkbeurs
DESCRIPTION:HANDWERKBEURS GENT 2018\nDe tweede editie van de Handwerkbeurs in Gent vindt plaats in november. \nDe grootste beurs op het gebied van textiele hobby’s in Europa vindt plaats van 9 t/m 11 november 2018 in de Flanders Expo in Gent (België).\nNa het succes van de 2017 editie\, keert de Handwerkbeurs terug naar Gent!\nDe kracht van de Handwerkbeurs is dat er uitsluitend textiele hobby’s te vinden zijn. Borduren\, breien\, haken\, quilten\, vilt\, zelf-maak-mode\, alles wat met textiel te maken heeft is hier te vinden. We hebben voornamelijk positieve berichten ontvangen van bezoekers én standhouders! We weten inmiddels ook dat de horeca en de routeaanduiding/parking nog verbeterd kunnen worden\, daar wordt aan gewerkt!
URL:https://www.hobbyhandig.nl/evenement/handwerkbeurs-2/
LOCATION:Flanders Expo\, Maaltekouter 1\, gent\, BE-9051\, België
CATEGORIES:Beurs,Evenement
END:VEVENT
BEGIN:VEVENT
DTSTART;TZID=Europe/Amsterdam:20181019T100000
DTEND;TZID=Europe/Amsterdam:20181020T170000
DTSTAMP:20260421T110852
CREATED:20180913T090552Z
LAST-MODIFIED:20180913T092703Z
UID:9041-1539943200-1540054800@www.hobbyhandig.nl
SUMMARY:Brei- en Haakdagen
DESCRIPTION:Breien en haken is populairder dan ooit!! Wat is dan leuker om twee dagen lang inspiratie op te doen met en onder gelijkgestemden. Op het marktgedeelte staat kwaliteit voorop! Het neusje van de zalm van de internationale brei- en haakwinkels zijn hier te vinden. \nMeld je aan voor de inspirerende workshops\, waar je verrassende ideeën kunt opdoen en nieuwe technieken leert. Op de pagina ‘Praktische info’ (onder het kopje ‘bezoekers’) staat alle praktische info over de breidagen. \nEr zijn gratis lezingen die je kunt bezoeken\, je kunt ook gratis meedoen aan de garenproeverij (vol=vol). Er is ruim voldoende ruimte om samen te breien en te haken\, van elkaar te zien wat je work in progress is of elkaars aankopen te bekijken. De kans is groot dat je nog een bekende blogger\, vlogger of ontwerpster tegen het lijf loopt! \nBij de meer dan 80 standhouders kun je terecht voor wol\, patronen\, naalden\, vachten\, vilt\, brei- en haakboeken\, textielverf en veel meer. \nNeem vooral ook je brei- en haakwerk mee!
URL:https://www.hobbyhandig.nl/evenement/brei-en-haakdagen/
CATEGORIES:Beurs,Evenement
END:VEVENT
BEGIN:VEVENT
DTSTART;VALUE=DATE:20170209
DTEND;VALUE=DATE:20170213
DTSTAMP:20260421T110852
CREATED:20161116T150126Z
LAST-MODIFIED:20161122T145657Z
UID:3100-1486598400-1486943999@www.hobbyhandig.nl
SUMMARY:Handwerkbeurs
DESCRIPTION:De 2017 editie wordt nog groter! Niet alleen stands met de mooiste handwerkartikelen maar ook veel demo’s\, workshops\, booksignings\, bloggersplein\, ontwerpersplein en veel meer. \nNoteer alvast de datum voor 2017 in uw agenda. Wilt u op de hoogte blijven dan kunt u zich aanmelden voor de nieuwsbrief (boven aan deze pagina)\, of volg ons op Twitter en Facebook.
URL:https://www.hobbyhandig.nl/evenement/handwerkbeurs/
LOCATION:Ijselhallen\, Rieteweg 4 \, Zwolle\, Nederland\, 8011 BC
CATEGORIES:Beurs
ATTACH;FMTTYPE=image/png:https://www.hobbyhandig.nl/wp-content/uploads/2016/11/logo.png
END:VEVENT
BEGIN:VEVENT
DTSTART;VALUE=DATE:20161125
DTEND;VALUE=DATE:20161128
DTSTAMP:20260421T110852
CREATED:20160914T083956Z
LAST-MODIFIED:20160915T141749Z
UID:2669-1480032000-1480291199@www.hobbyhandig.nl
SUMMARY:Crea Weekend Rijswijk
DESCRIPTION:Kom op 25\, 26 & 27 november 2016 naar de kerst editie van het Crea Weekend. De beurshal binnen De Broodfabriek is gevuld met hobby’s zoals scrapbooken\, decopatch\, kaarten maken\, sieraden en handwerken. Ook zelfgemaakte producten van hobbyisten\, decoraties voor in huis en doe-het-zelfpakketjes zijn hier te vinden. En dit alles in de kerstsfeer. Een prima manier om u voor te bereiden voor de feestdagen! \nVoor meer informatie kijk op: www.creaweekend.nl
URL:https://www.hobbyhandig.nl/evenement/crea-weekend-rijswijk-2/
LOCATION:De Broodfabriek\, Volmerlaan 12\, Rijswijk\, 2288GD\, Nederland
CATEGORIES:Beurs
ATTACH;FMTTYPE=image/jpeg:https://www.hobbyhandig.nl/wp-content/uploads/2016/09/creaweekend.jpg
END:VEVENT
END:VCALENDAR