BEGIN:VCALENDAR
VERSION:2.0
PRODID:-//HobbyHandig - ECPv6.15.18//NONSGML v1.0//EN
CALSCALE:GREGORIAN
METHOD:PUBLISH
X-ORIGINAL-URL:https://www.hobbyhandig.nl
X-WR-CALDESC:Evenementen voor HobbyHandig
REFRESH-INTERVAL;VALUE=DURATION:PT1H
X-Robots-Tag:noindex
X-PUBLISHED-TTL:PT1H
BEGIN:VTIMEZONE
TZID:Europe/Amsterdam
BEGIN:DAYLIGHT
TZOFFSETFROM:+0100
TZOFFSETTO:+0200
TZNAME:CEST
DTSTART:20170326T010000
END:DAYLIGHT
BEGIN:STANDARD
TZOFFSETFROM:+0200
TZOFFSETTO:+0100
TZNAME:CET
DTSTART:20171029T010000
END:STANDARD
BEGIN:DAYLIGHT
TZOFFSETFROM:+0100
TZOFFSETTO:+0200
TZNAME:CEST
DTSTART:20180325T010000
END:DAYLIGHT
BEGIN:STANDARD
TZOFFSETFROM:+0200
TZOFFSETTO:+0100
TZNAME:CET
DTSTART:20181028T010000
END:STANDARD
BEGIN:DAYLIGHT
TZOFFSETFROM:+0100
TZOFFSETTO:+0200
TZNAME:CEST
DTSTART:20190331T010000
END:DAYLIGHT
BEGIN:STANDARD
TZOFFSETFROM:+0200
TZOFFSETTO:+0100
TZNAME:CET
DTSTART:20191027T010000
END:STANDARD
END:VTIMEZONE
BEGIN:VEVENT
DTSTART;TZID=Europe/Amsterdam:20180406T100000
DTEND;TZID=Europe/Amsterdam:20180408T170000
DTSTAMP:20260420T202428
CREATED:20180228T092926Z
LAST-MODIFIED:20180228T092927Z
UID:7525-1523008800-1523206800@www.hobbyhandig.nl
SUMMARY:Knit & Knot
DESCRIPTION:
URL:https://www.hobbyhandig.nl/evenement/knit-knot-4/
LOCATION:Tilburg
ATTACH;FMTTYPE=image/png:https://www.hobbyhandig.nl/wp-content/uploads/2018/02/LOGOKnitEnKnotDEF-CMYK-01-e1519297795663.png
END:VEVENT
END:VCALENDAR