BEGIN:VCALENDAR
VERSION:2.0
PRODID:-//HobbyHandig - ECPv6.15.18//NONSGML v1.0//EN
CALSCALE:GREGORIAN
METHOD:PUBLISH
X-ORIGINAL-URL:https://www.hobbyhandig.nl
X-WR-CALDESC:Evenementen voor HobbyHandig
REFRESH-INTERVAL;VALUE=DURATION:PT1H
X-Robots-Tag:noindex
X-PUBLISHED-TTL:PT1H
BEGIN:VTIMEZONE
TZID:Europe/Amsterdam
BEGIN:DAYLIGHT
TZOFFSETFROM:+0100
TZOFFSETTO:+0200
TZNAME:CEST
DTSTART:20160327T010000
END:DAYLIGHT
BEGIN:STANDARD
TZOFFSETFROM:+0200
TZOFFSETTO:+0100
TZNAME:CET
DTSTART:20161030T010000
END:STANDARD
BEGIN:DAYLIGHT
TZOFFSETFROM:+0100
TZOFFSETTO:+0200
TZNAME:CEST
DTSTART:20170326T010000
END:DAYLIGHT
BEGIN:STANDARD
TZOFFSETFROM:+0200
TZOFFSETTO:+0100
TZNAME:CET
DTSTART:20171029T010000
END:STANDARD
BEGIN:DAYLIGHT
TZOFFSETFROM:+0100
TZOFFSETTO:+0200
TZNAME:CEST
DTSTART:20180325T010000
END:DAYLIGHT
BEGIN:STANDARD
TZOFFSETFROM:+0200
TZOFFSETTO:+0100
TZNAME:CET
DTSTART:20181028T010000
END:STANDARD
END:VTIMEZONE
BEGIN:VEVENT
DTSTART;TZID=Europe/Amsterdam:20170610T100000
DTEND;TZID=Europe/Amsterdam:20170611T170000
DTSTAMP:20260421T062514
CREATED:20170518T095221Z
LAST-MODIFIED:20170518T095221Z
UID:5459-1497088800-1497200400@www.hobbyhandig.nl
SUMMARY:Mjamtaart Cake & Bake Experience
DESCRIPTION:De MjamTaart Cake & Bake Experience is de zoetste beurs en een beleving op het gebied van bakken\, taart decoratie\, patisserie\, chocolade\, cupcakes en alles wat er bij komt kijken. De nieuwste trends\, de moeilijkste technieken\, je ziet en beleeft het allemaal tijdens de gratis demonstraties. Doe mee aan -of bewonder- de bekende Holland Sugar Art Show wedstrijd en volg een workshop of masterclass bij onze binnen-en buitenlandse taart- en decoreergoeroe’s. \nZet de datum in je agenda: 10 & 11 juni 2017 worden 2 dagen vol proeven\, zien en beleven!
URL:https://www.hobbyhandig.nl/evenement/mjamtaart-cake-bake-experience-2/
LOCATION:Fokker Terminal Den Haag\, Binckhorstlaan 249\, Den Haag\, 2516 BB
CATEGORIES:Evenement
ATTACH;FMTTYPE=image/jpeg:https://www.hobbyhandig.nl/wp-content/uploads/2017/05/workshop1-e1495101090130.jpg
ORGANIZER;CN="MjamTaart":MAILTO:info@uitgeverijscala.nl
END:VEVENT
END:VCALENDAR