BEGIN:VCALENDAR
VERSION:2.0
PRODID:-//HobbyHandig - ECPv6.15.18//NONSGML v1.0//EN
CALSCALE:GREGORIAN
METHOD:PUBLISH
X-WR-CALNAME:HobbyHandig
X-ORIGINAL-URL:https://www.hobbyhandig.nl
X-WR-CALDESC:Evenementen voor HobbyHandig
REFRESH-INTERVAL;VALUE=DURATION:PT1H
X-Robots-Tag:noindex
X-PUBLISHED-TTL:PT1H
BEGIN:VTIMEZONE
TZID:Europe/Amsterdam
BEGIN:DAYLIGHT
TZOFFSETFROM:+0100
TZOFFSETTO:+0200
TZNAME:CEST
DTSTART:20160327T010000
END:DAYLIGHT
BEGIN:STANDARD
TZOFFSETFROM:+0200
TZOFFSETTO:+0100
TZNAME:CET
DTSTART:20161030T010000
END:STANDARD
BEGIN:DAYLIGHT
TZOFFSETFROM:+0100
TZOFFSETTO:+0200
TZNAME:CEST
DTSTART:20170326T010000
END:DAYLIGHT
BEGIN:STANDARD
TZOFFSETFROM:+0200
TZOFFSETTO:+0100
TZNAME:CET
DTSTART:20171029T010000
END:STANDARD
BEGIN:DAYLIGHT
TZOFFSETFROM:+0100
TZOFFSETTO:+0200
TZNAME:CEST
DTSTART:20180325T010000
END:DAYLIGHT
BEGIN:STANDARD
TZOFFSETFROM:+0200
TZOFFSETTO:+0100
TZNAME:CET
DTSTART:20181028T010000
END:STANDARD
BEGIN:DAYLIGHT
TZOFFSETFROM:+0100
TZOFFSETTO:+0200
TZNAME:CEST
DTSTART:20190331T010000
END:DAYLIGHT
BEGIN:STANDARD
TZOFFSETFROM:+0200
TZOFFSETTO:+0100
TZNAME:CET
DTSTART:20191027T010000
END:STANDARD
END:VTIMEZONE
BEGIN:VEVENT
DTSTART;TZID=Europe/Amsterdam:20180511T100000
DTEND;TZID=Europe/Amsterdam:20180512T170000
DTSTAMP:20260420T232728
CREATED:20180228T092747Z
LAST-MODIFIED:20180228T092747Z
UID:7535-1526032800-1526144400@www.hobbyhandig.nl
SUMMARY:Nederlandse Breidagen
DESCRIPTION:
URL:https://www.hobbyhandig.nl/evenement/nederlandse-breidagen-5/
LOCATION:Broodfabriek Rijswijk
ATTACH;FMTTYPE=image/gif:https://www.hobbyhandig.nl/wp-content/uploads/2018/02/breidagen_logo.gif
END:VEVENT
BEGIN:VEVENT
DTSTART;VALUE=DATE:20170519
DTEND;VALUE=DATE:20170521
DTSTAMP:20260420T232728
CREATED:20170302T091150Z
LAST-MODIFIED:20170420T114748Z
UID:4901-1495152000-1495324799@www.hobbyhandig.nl
SUMMARY:Nederlandse Breidagen
DESCRIPTION:Wat is dan leuker dan twee dagen lang inspiratie op te doen met en onder gelijkgestemden. Meld je aan voor de inspirerende workshops\, waar je verrassende ideeën kunt opdoen en nieuwe technieken leert. www.breidag.nl
URL:https://www.hobbyhandig.nl/evenement/nederlandse-breidagen-2/
LOCATION:Broodfabriek Rijswijk
END:VEVENT
END:VCALENDAR