BEGIN:VCALENDAR
VERSION:2.0
PRODID:-//HobbyHandig - ECPv6.15.18//NONSGML v1.0//EN
CALSCALE:GREGORIAN
METHOD:PUBLISH
X-WR-CALNAME:HobbyHandig
X-ORIGINAL-URL:https://www.hobbyhandig.nl
X-WR-CALDESC:Evenementen voor HobbyHandig
REFRESH-INTERVAL;VALUE=DURATION:PT1H
X-Robots-Tag:noindex
X-PUBLISHED-TTL:PT1H
BEGIN:VTIMEZONE
TZID:Europe/Amsterdam
BEGIN:DAYLIGHT
TZOFFSETFROM:+0100
TZOFFSETTO:+0200
TZNAME:CEST
DTSTART:20170326T010000
END:DAYLIGHT
BEGIN:STANDARD
TZOFFSETFROM:+0200
TZOFFSETTO:+0100
TZNAME:CET
DTSTART:20171029T010000
END:STANDARD
BEGIN:DAYLIGHT
TZOFFSETFROM:+0100
TZOFFSETTO:+0200
TZNAME:CEST
DTSTART:20180325T010000
END:DAYLIGHT
BEGIN:STANDARD
TZOFFSETFROM:+0200
TZOFFSETTO:+0100
TZNAME:CET
DTSTART:20181028T010000
END:STANDARD
BEGIN:DAYLIGHT
TZOFFSETFROM:+0100
TZOFFSETTO:+0200
TZNAME:CEST
DTSTART:20190331T010000
END:DAYLIGHT
BEGIN:STANDARD
TZOFFSETFROM:+0200
TZOFFSETTO:+0100
TZNAME:CET
DTSTART:20191027T010000
END:STANDARD
END:VTIMEZONE
BEGIN:VEVENT
DTSTART;TZID=Europe/Amsterdam:20180830T100000
DTEND;TZID=Europe/Amsterdam:20180901T170000
DTSTAMP:20260421T062328
CREATED:20180807T120151Z
LAST-MODIFIED:20180807T120151Z
UID:8705-1535623200-1535821200@www.hobbyhandig.nl
SUMMARY:Knotsgekke Kaarten- en Scrapdagen 2018
DESCRIPTION:Eind augustus is het weer zover; alle creatievelingen trekken er dan op uit! Waar naar toe? De grootste creatieve beurs voor kaartenmakers en scrappers! Net als vorig jaar is er ook weer een plein midden op de beurs waar de Pergamano-dagen plaatsvinden. \nCreatief\nDe Knotsgekke Kaarten- en Scrapdagen is met ruim 100 stands en 35 workshops de grootste creatieve kaarten- en scrapbeurs van Nederland. Alles op het gebied van kaartenmaken en scrappen is hier te vinden. \nInspirerend\nNatuurlijk presenteren we op de beurs de laatste trends en vind je volop inspiratie. Zo kun je dit jaar op de beurs met al je hobbyvragen terecht bij onze knotsgekke bloggers! \nGezellig\nSamen met je vrienden\, familie\, kinderen of kleinkinderen beleef je de leukste dag uit in het teken van jouw hobby.
URL:https://www.hobbyhandig.nl/evenement/knotsgekke-kaarten-en-scrapdagen-2018/
LOCATION:Brabanthallen Den Bosch\, Diezekade 2\,  's-Hertogenbosch\, Brabant\, 5222 AK \, Nederland
END:VEVENT
END:VCALENDAR